BEGIN:VCALENDAR
VERSION:2.0
PRODID:-//ChamberMaster//Event Calendar 2.0//EN
METHOD:PUBLISH
X-PUBLISHED-TTL:P3D
REFRESH-INTERVAL:P3D
CALSCALE:GREGORIAN
BEGIN:VEVENT
DTSTART:20101018T233000Z
DTEND:20101018T233000Z
X-MICROSOFT-CDO-ALLDAYEVENT:FALSE
SUMMARY:Dessert with the Doctor
DESCRIPTION:Please join us for two informative presentations in one evening and learn about the latest advances in the treatment of Breast Cancer\, and take the opportunity to ask a Cardiologist questions you may have about heart disease.  Join us in the pursuit of a healthier life.  Updates on Treatment of Breast Cancer Speaker: Todd Shenkenberg\, MD - Oncologist   Questions You May Have Had About Heart Disease but Forgot to Ask!\nSpeaker: Usman Sheriff\, MD - Cardiologist.  FREE Admission • Heart Healthy Dessert Provided.  RSVP required please call 956-542-5433 seating is limited.
X-ALT-DESC;FMTTYPE=text/html:Please join us for two informative presentations in one evening and learn about the latest advances in the treatment of Breast Cancer\, and take the opportunity to ask a Cardiologist questions you may have about heart disease.  Join us in the pursuit of a healthier life.  Updates on Treatment of Breast Cancer Speaker: Todd Shenkenberg\, MD - Oncologist   Questions You May Have Had About Heart Disease but Forgot to Ask!\nSpeaker: Usman Sheriff\, MD - Cardiologist.  FREE Admission • Heart Healthy Dessert Provided.  RSVP required please call 956-542-5433 seating is limited.
LOCATION:Woodward Conference Ctr. South Tower Entrance.
UID:e.1828.2794
SEQUENCE:3
DTSTAMP:20260421T203525Z
URL:https://business.harlingen.com/events/details/dessert-with-the-doctor-10-18-2010-2794
END:VEVENT

END:VCALENDAR
