BEGIN:VCALENDAR
VERSION:2.0
PRODID:-//ChamberMaster//Event Calendar 2.0//EN
METHOD:PUBLISH
X-PUBLISHED-TTL:P3D
REFRESH-INTERVAL:P3D
CALSCALE:GREGORIAN
BEGIN:VEVENT
DTSTART:20121115T003000Z
DTEND:20121115T003000Z
X-MICROSOFT-CDO-ALLDAYEVENT:FALSE
SUMMARY:Dessert with the Doctor/ Advances in Cardiac Care for the 21st Century/Understanding Kidney Disease
DESCRIPTION:Please join Valley Baptist for an informative presentation and learn more about Heart and Kidney disease. You'll enjoy a delicious heart-healthy dessert\, and have an opportunity to ask questions at the end of the session. \n\n#1. Advances in Cardiac Care for the 21st Century speaker Charles Mild\, M.D.\, Cardiology\n#2. Undestanding Kidney Disease\, speaker Oladayo sanusi\, MD\, Nephrology/Internal Medicine\n\nFree Admission\, RSVP required\, Seating is Limited.
X-ALT-DESC;FMTTYPE=text/html:Please join Valley Baptist for an informative presentation and learn more about Heart and Kidney disease. You'll enjoy a delicious heart-healthy dessert\, and have an opportunity to ask questions at the end of the session. \n\n#1. Advances in Cardiac Care for the 21st Century speaker Charles Mild\, M.D.\, Cardiology\n#2. Undestanding Kidney Disease\, speaker Oladayo sanusi\, MD\, Nephrology/Internal Medicine\n\nFree Admission\, RSVP required\, Seating is Limited.
LOCATION:
UID:e.1828.4149
SEQUENCE:3
DTSTAMP:20260420T084819Z
URL:https://business.harlingen.com/events/details/dessert-with-the-doctor-advances-in-cardiac-care-for-the-21st-century-understanding-kidney-disease-11-14-2012-4149
END:VEVENT

END:VCALENDAR
