BEGIN:VCALENDAR
VERSION:2.0
PRODID:-//ChamberMaster//Event Calendar 2.0//EN
METHOD:PUBLISH
X-PUBLISHED-TTL:P3D
REFRESH-INTERVAL:P3D
CALSCALE:GREGORIAN
BEGIN:VEVENT
DTSTART:20110126T003000Z
DTEND:20110126T003000Z
X-MICROSOFT-CDO-ALLDAYEVENT:FALSE
SUMMARY:Dessert with the Doctor Cardiologist Vascular Disease
DESCRIPTION:Join Valley Baptist for an informative presentation and learn the latest facts about the prevention and treatment of Vascular Disease. Speaker Charles Mild\, M.D. - Cardiologist Vascular Disease: Prevention & Treatment\nFREE Admission • Heart Healthy Dessert Provided.  You'll enjoy a delicious\, heart-healthy dessert and have an opportunity to ask questions at the end of the session. RSVP required. Please call 888-902-5433. Seating is limited.
X-ALT-DESC;FMTTYPE=text/html:Join Valley Baptist for an informative presentation and learn the latest facts about the prevention and treatment of Vascular Disease. Speaker Charles Mild\, M.D. - Cardiologist Vascular Disease: Prevention & Treatment\nFREE Admission • Heart Healthy Dessert Provided.  You'll enjoy a delicious\, heart-healthy dessert and have an opportunity to ask questions at the end of the session. RSVP required. Please call 888-902-5433. Seating is limited. 
LOCATION:Woodward Conference Center VBMC-Harlingen South Tower
UID:e.1828.2890
SEQUENCE:3
DTSTAMP:20260421T171842Z
URL:https://business.harlingen.com/events/details/dessert-with-the-doctor-cardiologist-vascular-disease-01-25-2011-2890
END:VEVENT

END:VCALENDAR
