BEGIN:VCALENDAR
VERSION:2.0
PRODID:-//ChamberMaster//Event Calendar 2.0//EN
METHOD:PUBLISH
X-PUBLISHED-TTL:P3D
REFRESH-INTERVAL:P3D
CALSCALE:GREGORIAN
BEGIN:VEVENT
DTSTART:20120502T233000Z
DTEND:20120502T233000Z
X-MICROSOFT-CDO-ALLDAYEVENT:FALSE
SUMMARY:Dessert with the Doctor"\, Diabetic Foot Seminar
DESCRIPTION:Join us This Wednesday evening for an interesting\, up-to-date seminar on Diabetes and your feet. Family and Friends are welcome. Event is free of charge and a heart healthy dessert is on the house!\nFor more information please call 1-888-902-LIFE (5433) RSVP Required.
X-ALT-DESC;FMTTYPE=text/html:Join us This Wednesday evening for an interesting\, up-to-date seminar on Diabetes and your feet. Family and Friends are welcome. Event is free of charge and a heart healthy dessert is on the house!\nFor more information please call 1-888-902-LIFE (5433) RSVP Required.\n
LOCATION:
UID:e.1828.3635
SEQUENCE:3
DTSTAMP:20260420T150920Z
URL:https://business.harlingen.com/events/details/dessert-with-the-doctor-diabetic-foot-seminar-05-02-2012-3635
END:VEVENT

END:VCALENDAR
