BEGIN:VCALENDAR
VERSION:2.0
PRODID:-//ChamberMaster//Event Calendar 2.0//EN
METHOD:PUBLISH
X-PUBLISHED-TTL:P3D
REFRESH-INTERVAL:P3D
CALSCALE:GREGORIAN
BEGIN:VEVENT
DTSTART:20121010T233000Z
DTEND:20121010T233000Z
X-MICROSOFT-CDO-ALLDAYEVENT:FALSE
SUMMARY:Dessert with the Doctor/ Dr. James W. Castillo
DESCRIPTION:Please join us for a talk by\, Dr. James W. Castillo\, Medical Director\, Palliative Care Services\, Valley Baptist Health System. "Palliative Care" To cure sometimes\, to relieve often\, to comfort always." You'll enjoy a delicious healthy dessert and have an opportunity to ask questions. Join us in the pursuit of a healthier life.\nFree Admission\, RSVP required. Please call- 1-888-902-5433
X-ALT-DESC;FMTTYPE=text/html:Please join us for a talk by\, Dr. James W. Castillo\, Medical Director\, Palliative Care Services\, Valley Baptist Health System. "Palliative Care" To cure sometimes\, to relieve often\, to comfort always." You'll enjoy a delicious healthy dessert and have an opportunity to ask questions. Join us in the pursuit of a healthier life.\nFree Admission\, RSVP required. Please call- 1-888-902-5433\n
LOCATION:Woodward Conference Center\, VBMC- Harlingen. South Tower Entrance
UID:e.1828.4041
SEQUENCE:3
DTSTAMP:20260420T084458Z
URL:https://business.harlingen.com/events/details/dessert-with-the-doctor-dr-james-w-castillo-10-10-2012-4041
END:VEVENT

END:VCALENDAR
