BEGIN:VCALENDAR
VERSION:2.0
PRODID:-//ChamberMaster//Event Calendar 2.0//EN
METHOD:PUBLISH
X-PUBLISHED-TTL:P3D
REFRESH-INTERVAL:P3D
CALSCALE:GREGORIAN
BEGIN:VEVENT
DTSTART:20110302T003000Z
DTEND:20110302T003000Z
X-MICROSOFT-CDO-ALLDAYEVENT:FALSE
SUMMARY:Dessert with the Doctor/ Speaker: Nolan Perez\, M.D. - Gastroenterologist
DESCRIPTION:Speaker: Nolan Perez\, M.D. - Gastroenterologist  \nQ & A: Colorectal Cancer \nWoodward Conference Center VBMC-Harlingen (South Tower)\n\nFREE Admission • Heart Healthy Dessert Provided\nJoin Valley Baptist for an informative presentation and have the opportunity to ask questions about Colorectal Cancer\, GERD\, or any gastrointestinal topics. You'll enjoy a delicious\, heart-healthy dessert and have an opportunity to ask questions at the end of the session. RSVP required. Please call 888-902-5433. Seating is limited.
X-ALT-DESC;FMTTYPE=text/html:Speaker: Nolan Perez\, M.D. - Gastroenterologist  \nQ & A: Colorectal Cancer \nWoodward Conference Center VBMC-Harlingen (South Tower)\n\nFREE Admission • Heart Healthy Dessert Provided\nJoin Valley Baptist for an informative presentation and have the opportunity to ask questions about Colorectal Cancer\, GERD\, or any gastrointestinal topics. You'll enjoy a delicious\, heart-healthy dessert and have an opportunity to ask questions at the end of the session. RSVP required. Please call 888-902-5433. Seating is limited.\n
LOCATION:Woodward Conference Center VBMC-Harlingen (South Tower)
UID:e.1828.2980
SEQUENCE:3
DTSTAMP:20260421T140714Z
URL:https://business.harlingen.com/events/details/dessert-with-the-doctor-speaker-nolan-perez-m-d-gastroenterologist-03-01-2011-2980
END:VEVENT

END:VCALENDAR
