BEGIN:VCALENDAR
VERSION:2.0
PRODID:-//ChamberMaster//Event Calendar 2.0//EN
METHOD:PUBLISH
X-PUBLISHED-TTL:P3D
REFRESH-INTERVAL:P3D
CALSCALE:GREGORIAN
BEGIN:VEVENT
DTSTART:20111108T003000Z
DTEND:20111108T003000Z
X-MICROSOFT-CDO-ALLDAYEVENT:FALSE
SUMMARY:Dessert with the Doctor/ The Care & Prevention of Hernias
DESCRIPTION:Join Dr. Eldo Frezza\, M.D.-General Surgeon as he shares important information on the defination of a hernia\, how to help prevent one\, and what to do if you already have a hernia. You'll enjoy a delicious\, heart-healthy dessert and have the opportunity to ask questions. Join us in the pursuit of a healthier life. Free Admission. RSVP required. Please call 1-888-902-5433. Seating is limited.
X-ALT-DESC;FMTTYPE=text/html:Join Dr. Eldo Frezza\, M.D.-General Surgeon as he shares important information on the defination of a hernia\, how to help prevent one\, and what to do if you already have a hernia. You'll enjoy a delicious\, heart-healthy dessert and have the opportunity to ask questions. Join us in the pursuit of a healthier life. Free Admission. RSVP required. Please call 1-888-902-5433. Seating is limited. \n
LOCATION:
UID:e.1828.3236
SEQUENCE:3
DTSTAMP:20260421T004543Z
URL:https://business.harlingen.com/events/details/dessert-with-the-doctor-the-care-prevention-of-hernias-11-07-2011-3236
END:VEVENT

END:VCALENDAR
