BEGIN:VCALENDAR
VERSION:2.0
PRODID:-//ChamberMaster//Event Calendar 2.0//EN
METHOD:PUBLISH
X-PUBLISHED-TTL:P3D
REFRESH-INTERVAL:P3D
CALSCALE:GREGORIAN
BEGIN:VEVENT
DTSTART:20120606T233000Z
DTEND:20120606T233000Z
X-MICROSOFT-CDO-ALLDAYEVENT:FALSE
SUMMARY:Dessert with the Doctors
DESCRIPTION:Join Dr. Julio Savinon Internal Medicine\, Bariatric & Metabolic Medicine as he discusses how Type 2 Diabetes can affect our bodies and how a healthy diet and healthy habits that lead to weight loss can help prevent diabetes\, control it\, and even return blood sugar levels to normal. Then listen to Dr. Ashraf Hilmy General & Bariatric Surgery talk about how bariatric surgery has been shown to cure Type 2 diabetes in many patients who were significantly overweight. Seating is limited. RSVP required\, please call 1-888-902-5433
X-ALT-DESC;FMTTYPE=text/html:Join Dr. Julio Savinon Internal Medicine\, Bariatric & Metabolic Medicine as he discusses how Type 2 Diabetes can affect our bodies and how a healthy diet and healthy habits that lead to weight loss can help prevent diabetes\, control it\, and even return blood sugar levels to normal. Then listen to Dr. Ashraf Hilmy General & Bariatric Surgery talk about how bariatric surgery has been shown to cure Type 2 diabetes in many patients who were significantly overweight. Seating is limited. RSVP required\, please call 1-888-902-5433 \n\n\n
LOCATION:
UID:e.1828.3748
SEQUENCE:3
DTSTAMP:20260420T131425Z
URL:https://business.harlingen.com/events/details/dessert-with-the-doctors-06-06-2012-3748
END:VEVENT

END:VCALENDAR
