BEGIN:VCALENDAR
VERSION:2.0
PRODID:-//ChamberMaster//Event Calendar 2.0//EN
METHOD:PUBLISH
X-PUBLISHED-TTL:P3D
REFRESH-INTERVAL:P3D
CALSCALE:GREGORIAN
BEGIN:VEVENT
DTSTART:20120524T233000Z
DTEND:20120524T233000Z
X-MICROSOFT-CDO-ALLDAYEVENT:FALSE
SUMMARY:"Dessert with the Doctors"\, Robotic-Assisted Gynecological Surgery Seminar
DESCRIPTION:Featuring Dr. Susan Hunter\, M.D.\, Dr. Ruben Torres\, M.D.\, and Dr. Uvaldo Cantu\, M.D. \nFREE Admission.  RSVP Required.  Seating is limited. Please join OB/GYN Dr. Susan Hunter\, Dr. Ruben Torres and Dr. Uvaldo Cantu as they discuss how robotic-assisted surgery represents one of the least invasive surgical treatments available\, which can help reduce pain and recovery time.  The daVinci robot will be on display\, as well. For more information call 1-888-902-LIFE (5433).
X-ALT-DESC;FMTTYPE=text/html:Featuring Dr. Susan Hunter\, M.D.\, Dr. Ruben Torres\, M.D.\, and Dr. Uvaldo Cantu\, M.D. \nFREE Admission.  RSVP Required.  Seating is limited. Please join OB/GYN Dr. Susan Hunter\, Dr. Ruben Torres and Dr. Uvaldo Cantu as they discuss how robotic-assisted surgery represents one of the least invasive surgical treatments available\, which can help reduce pain and recovery time.  The daVinci robot will be on display\, as well. For more information call 1-888-902-LIFE (5433).\n
LOCATION:
UID:e.1828.3698
SEQUENCE:3
DTSTAMP:20260420T150839Z
URL:https://business.harlingen.com/events/details/dessert-with-the-doctors-robotic-assisted-gynecological-surgery-seminar-05-24-2012-3698
END:VEVENT

END:VCALENDAR
