BEGIN:VCALENDAR
VERSION:2.0
PRODID:-//ChamberMaster//Event Calendar 2.0//EN
METHOD:PUBLISH
X-PUBLISHED-TTL:P3D
REFRESH-INTERVAL:P3D
CALSCALE:GREGORIAN
BEGIN:VEVENT
DTSTART:20101031T180000Z
DTEND:20101031T210000Z
X-MICROSOFT-CDO-ALLDAYEVENT:FALSE
SUMMARY:"Dia De Los Muertos"
DESCRIPTION:RGV Hispanic Genealogy Society invites you to  R.I.P.   Open to the public.
X-ALT-DESC;FMTTYPE=text/html:RGV Hispanic Genealogy Society invites you to  R.I.P.   Open to the public.  
LOCATION:Harlingen City Cemetery located on South "F" Street.
UID:e.1828.2818
SEQUENCE:3
DTSTAMP:20260421T203337Z
URL:https://business.harlingen.com/events/details/dia-de-los-muertos-10-31-2010-2818
END:VEVENT

END:VCALENDAR
