BEGIN:VCALENDAR
VERSION:2.0
PRODID:-//ChamberMaster//Event Calendar 2.0//EN
METHOD:PUBLISH
X-PUBLISHED-TTL:P3D
REFRESH-INTERVAL:P3D
CALSCALE:GREGORIAN
BEGIN:VEVENT
DTSTART;VALUE=DATE:20091008
DTEND;VALUE=DATE:20091109
TRANSP:TRANSPARENT
X-MICROSOFT-CDO-ALLDAYEVENT:TRUE
SUMMARY:Dia de los Muertos Altars Exhibit
DESCRIPTION:The Harlingen Arts & Heritage Museum celebrates the diversity of our community by embracing the Mexican tradition of Dia de los Muertos.   The Dia de los Muertos altar exhibit invites local organizations and members of the community to set up altars in remembrance of family and friends who have died.  For museum hours\, please call 956-216-4901.
X-ALT-DESC;FMTTYPE=text/html:The Harlingen Arts & Heritage Museum celebrates the diversity of our community by embracing the Mexican tradition of Dia de los Muertos.   The Dia de los Muertos altar exhibit invites local organizations and members of the community to set up altars in remembrance of family and friends who have died.  For museum hours\, please call 956-216-4901.\n
LOCATION:Harlingen Arts & Heritage Museum
UID:e.1828.1592
SEQUENCE:3
DTSTAMP:20260422T111917Z
URL:https://business.harlingen.com/events/details/dia-de-los-muertos-altars-exhibit-10-08-2009-1592
END:VEVENT

END:VCALENDAR
