BEGIN:VCALENDAR
VERSION:2.0
PRODID:-//ChamberMaster//Event Calendar 2.0//EN
METHOD:PUBLISH
X-PUBLISHED-TTL:P3D
REFRESH-INTERVAL:P3D
CALSCALE:GREGORIAN
BEGIN:VEVENT
DTSTART:20091029T230000Z
DTEND:20091029T230000Z
X-MICROSOFT-CDO-ALLDAYEVENT:FALSE
SUMMARY:Dia de los Muertos Altars Reception
DESCRIPTION:The opening reception for the Dia de los Muertos Altar exhibit starts at 6:00 PM and is free to the public.  For more information\, please call 956-216-4901.
X-ALT-DESC;FMTTYPE=text/html:The opening reception for the Dia de los Muertos Altar exhibit starts at 6:00 PM and is free to the public.  For more information\, please call 956-216-4901.\n
LOCATION:Harlingen Arts & Heritage Museum
UID:e.1828.1594
SEQUENCE:3
DTSTAMP:20260422T111842Z
URL:https://business.harlingen.com/events/details/dia-de-los-muertos-altars-reception-10-29-2009-1594
END:VEVENT

END:VCALENDAR
