BEGIN:VCALENDAR
VERSION:2.0
PRODID:-//ChamberMaster//Event Calendar 2.0//EN
METHOD:PUBLISH
X-PUBLISHED-TTL:P3D
REFRESH-INTERVAL:P3D
CALSCALE:GREGORIAN
BEGIN:VEVENT
DTSTART:20091017T150000Z
DTEND:20091114T220000Z
X-MICROSOFT-CDO-ALLDAYEVENT:FALSE
SUMMARY:Dia de los Muertos BISD Faculty Art Exhibit
DESCRIPTION:The Old City Cemetery Center\, located in the Mitte Cultural District\, invites the public to enjoy the second annual Dia de los Muertos BISD Faculty Art Exhibit.  Showcasing the talent of the teachers and students of the Brownsville Community Schools\, this exhibit is a reflection of the cultural and personal significance that Day of the Dead has on our community.\n\nThe event is sponsored by Target and is free to the public.
X-ALT-DESC;FMTTYPE=text/html:The Old City Cemetery Center\, located in the Mitte Cultural District\, invites the public to enjoy the second annual Dia de los Muertos BISD Faculty Art Exhibit.  Showcasing the talent of the teachers and students of the Brownsville Community Schools\, this exhibit is a reflection of the cultural and personal significance that Day of the Dead has on our community.\n\nThe event is sponsored by Target and is free to the public.
LOCATION:Take US 77/83 to the 6th street exit. The Old City Cemetery Center is half way down on the left hand side. Parking is available on Monroe Street and in a lot at the corner of 6th and Madison
UID:e.1828.2106
SEQUENCE:3
DTSTAMP:20260422T112010Z
URL:https://business.harlingen.com/events/details/dia-de-los-muertos-bisd-faculty-art-exhibit-10-17-2009-2106
END:VEVENT

END:VCALENDAR
