BEGIN:VCALENDAR
VERSION:2.0
PRODID:-//ChamberMaster//Event Calendar 2.0//EN
METHOD:PUBLISH
X-PUBLISHED-TTL:P3D
REFRESH-INTERVAL:P3D
CALSCALE:GREGORIAN
BEGIN:VEVENT
DTSTART:20091005T150000Z
DTEND:20091102T220000Z
X-MICROSOFT-CDO-ALLDAYEVENT:FALSE
SUMMARY:Dia de los Muertos Community Alter
DESCRIPTION:The Brownsville Historical Association invites the community to participate in the 5th Annual Day of the Dead Community Altar.  Guests are invited to bring their mementos to the Heritage Museum Complex on Washington St.  The complex is open 10am to 4pm Tuesday through Saturday.  This exhibit is sponsored by Target. The altar on display through November 2\, 2009.
X-ALT-DESC;FMTTYPE=text/html:The Brownsville Historical Association invites the community to participate in the 5th Annual Day of the Dead Community Altar.  Guests are invited to bring their mementos to the Heritage Museum Complex on Washington St.  The complex is open 10am to 4pm Tuesday through Saturday.  This exhibit is sponsored by Target. The altar on display through November 2\, 2009.\n
LOCATION:Take US 77/83 to International Blvd. Turn right onto Washington St. (one way) and the Museum will be on the right hand side. Parking is available nearby.
UID:e.1828.2131
SEQUENCE:3
DTSTAMP:20260422T111835Z
URL:https://business.harlingen.com/events/details/dia-de-los-muertos-community-alter-10-05-2009-2131
END:VEVENT

END:VCALENDAR
