BEGIN:VCALENDAR
VERSION:2.0
PRODID:-//ChamberMaster//Event Calendar 2.0//EN
METHOD:PUBLISH
X-PUBLISHED-TTL:P3D
REFRESH-INTERVAL:P3D
CALSCALE:GREGORIAN
BEGIN:VEVENT
DTSTART:20101028T110000Z
DTEND:20101029T010000Z
X-MICROSOFT-CDO-ALLDAYEVENT:FALSE
SUMMARY:Dia de los Muertos Opening Reception & Exhibit
DESCRIPTION:Exhibit kicks off with a reception from 6 to 8 pm at the Harlingen Arts & Heritage Museum located at 2425 Boxwood.  Exhibit runs through November.  For more information\, contact the museum at (956) 216-4901.
X-ALT-DESC;FMTTYPE=text/html:Exhibit kicks off with a reception from 6 to 8 pm at the Harlingen Arts & Heritage Museum located at 2425 Boxwood.  Exhibit runs through November.  For more information\, contact the museum at (956) 216-4901.\n
LOCATION:
UID:e.1828.2676
SEQUENCE:3
DTSTAMP:20260421T203525Z
URL:https://business.harlingen.com/events/details/dia-de-los-muertos-opening-reception-exhibit-10-28-2010-2676
END:VEVENT

END:VCALENDAR
