BEGIN:VCALENDAR
VERSION:2.0
PRODID:-//ChamberMaster//Event Calendar 2.0//EN
METHOD:PUBLISH
X-PUBLISHED-TTL:P3D
REFRESH-INTERVAL:P3D
CALSCALE:GREGORIAN
BEGIN:VEVENT
DTSTART:20121101T230000Z
DTEND:20121102T010000Z
X-MICROSOFT-CDO-ALLDAYEVENT:FALSE
SUMMARY:''Dia de los Muertos'' Reception
DESCRIPTION:Harlingen Arts and Heritage Museum ''Dia de los Muertos'' Reception Individuals\, businesses\, organizations\, etc. are encourage to participate with setting up an altar for a loved one. This is a festive event celebrated with traditional music and food. Time 6pm-8pm\, museum located at\, 2424 Boxwood. For more information call 956-216-4910
X-ALT-DESC;FMTTYPE=text/html:Harlingen Arts and Heritage Museum ''Dia de los Muertos'' Reception Individuals\, businesses\, organizations\, etc. are encourage to participate with setting up an altar for a loved one. This is a festive event celebrated with traditional music and food. Time 6pm-8pm\, museum located at\, 2424 Boxwood. For more information call 956-216-4910\n
LOCATION:
UID:e.1828.4029
SEQUENCE:3
DTSTAMP:20260420T084056Z
URL:https://business.harlingen.com/events/details/dia-de-los-muertos-reception-11-01-2012-4029
END:VEVENT

END:VCALENDAR
