BEGIN:VCALENDAR
VERSION:2.0
PRODID:-//ChamberMaster//Event Calendar 2.0//EN
METHOD:PUBLISH
X-PUBLISHED-TTL:P3D
REFRESH-INTERVAL:P3D
CALSCALE:GREGORIAN
BEGIN:VEVENT
DTSTART:20120131T193000Z
DTEND:20120131T193000Z
X-MICROSOFT-CDO-ALLDAYEVENT:FALSE
SUMMARY:Diabetes Self-Management Program
DESCRIPTION:The Diabetes Self-Management Program is a workshop designed for people with "Type 2 Diabetes." The program teaches skills needed in the day-to-day management of Diabetes by increasing self-confidence and the ability to control symptoms\, therefore improve the quality of life. This is a 6 Week Program\, 2 ½ hours per Class\, For People with Type 2 Diabetes\, family members\, and caregivers\, All Materials Provided\, Created by STANFORD UNIVERSITY School of Medicine\, Confidential Services. Classes Begin: Tuesday\, January 31\, 2012 1:30 PM. Free\, Limited seating. To Register Call: (956) 365-4732.
X-ALT-DESC;FMTTYPE=text/html:The Diabetes Self-Management Program is a workshop designed for people with "Type 2 Diabetes." The program teaches skills needed in the day-to-day management of Diabetes by increasing self-confidence and the ability to control symptoms\, therefore improve the quality of life. This is a 6 Week Program\, 2 ½ hours per Class\, For People with Type 2 Diabetes\, family members\, and caregivers\, All Materials Provided\, Created by STANFORD UNIVERSITY School of Medicine\, Confidential Services. Classes Begin: Tuesday\, January 31\, 2012 1:30 PM. Free\, Limited seating. To Register Call: (956) 365-4732.  \n\n
LOCATION:
UID:e.1828.3385
SEQUENCE:3
DTSTAMP:20260420T225111Z
URL:https://business.harlingen.com/events/details/diabetes-self-management-program-01-31-2012-3385
END:VEVENT

END:VCALENDAR
