BEGIN:VCALENDAR
VERSION:2.0
PRODID:-//ChamberMaster//Event Calendar 2.0//EN
METHOD:PUBLISH
X-PUBLISHED-TTL:P3D
REFRESH-INTERVAL:P3D
CALSCALE:GREGORIAN
BEGIN:VEVENT
DTSTART:20101208T233000Z
DTEND:20101208T233000Z
X-MICROSOFT-CDO-ALLDAYEVENT:FALSE
SUMMARY:Digi Rad X-Ray Mobile Grand Opening & Ribbon Cutting
DESCRIPTION:Come celebrate the grand opening and ribbon cutting of Digi Rad X-Ray Mobile.  Digi Rad provides mobile x-ray services to patients in their homes.  Appetizers\, drinks\, and hors d'oeuvres will be served.
X-ALT-DESC;FMTTYPE=text/html:Come celebrate the grand opening and ribbon cutting of Digi Rad X-Ray Mobile.  Digi Rad provides mobile x-ray services to patients in their homes.  Appetizers\, drinks\, and hors d'oeuvres will be served. 
LOCATION:
UID:e.1828.2861
SEQUENCE:3
DTSTAMP:20260421T190357Z
URL:https://business.harlingen.com/events/details/digi-rad-x-ray-mobile-grand-opening-ribbon-cutting-12-08-2010-2861
END:VEVENT

END:VCALENDAR
