BEGIN:VCALENDAR
VERSION:2.0
PRODID:-//ChamberMaster//Event Calendar 2.0//EN
METHOD:PUBLISH
X-PUBLISHED-TTL:P3D
REFRESH-INTERVAL:P3D
CALSCALE:GREGORIAN
BEGIN:VEVENT
DTSTART:20100126T010000Z
DTEND:20100126T010000Z
X-MICROSOFT-CDO-ALLDAYEVENT:FALSE
SUMMARY:Dimensions in Blue - United States Air Force Band of the West Jazz Ensemble
DESCRIPTION:Dimensions in Blue\, the jazz ensemble from the United States Air Force Band of the West\, will be presenting a concert on January 25 & 26\, 2010 at Christian Fellowship Church. This group performs a wide variety of music ranging from the classics of Duke Ellington\, Count Basie\, and Woody Herman\, to the more contemporary sounds of Rob McConnell\, Bob Mintzer\, and Frank Mantooth. The band can also recreate the look & sound of the 1940s Glenn Miller Army Air Corps Jazz Band.  Tickets available at the Harlingen Area Chamber of Commerce located at 311 East Tyler.  The concert is FREE and open to the public\, however tickets are required to guarantee a seat.  Limited to 4 tickets per person.
X-ALT-DESC;FMTTYPE=text/html:Dimensions in Blue\, the jazz ensemble from the United States Air Force Band of the West\, will be presenting a concert on January 25 & 26\, 2010 at Christian Fellowship Church. This group performs a wide variety of music ranging from the classics of Duke Ellington\, Count Basie\, and Woody Herman\, to the more contemporary sounds of Rob McConnell\, Bob Mintzer\, and Frank Mantooth. The band can also recreate the look & sound of the 1940s Glenn Miller Army Air Corps Jazz Band.  Tickets available at the Harlingen Area Chamber of Commerce located at 311 East Tyler.  The concert is FREE and open to the public\, however tickets are required to guarantee a seat.  Limited to 4 tickets per person.  
LOCATION:
UID:e.1828.2267
SEQUENCE:3
DTSTAMP:20260422T112514Z
URL:https://business.harlingen.com/events/details/dimensions-in-blue-united-states-air-force-band-of-the-west-jazz-ensemble-01-25-2010-2267
END:VEVENT

END:VCALENDAR
