BEGIN:VCALENDAR
VERSION:2.0
PRODID:-//ChamberMaster//Event Calendar 2.0//EN
METHOD:PUBLISH
X-PUBLISHED-TTL:P3D
REFRESH-INTERVAL:P3D
CALSCALE:GREGORIAN
BEGIN:VEVENT
DTSTART;VALUE=DATE:20111103
DTEND;VALUE=DATE:20111104
TRANSP:TRANSPARENT
X-MICROSOFT-CDO-ALLDAYEVENT:TRUE
SUMMARY:Dining by Design
DESCRIPTION:A benefit for the American Cancer Society Daytime Preview & Light Buffet from 11am- 4pm. Preview tickets\, $25 per person\, available at the Chamber & First Community Banks. \n\nFine Dining at 6:30 in the evening. By reservation\, $75 per person. (Limited seating so don't delay!)\nRSVP to Sandra\, (956) 423-0915 or sgrawunder@rgv.rr.com
X-ALT-DESC;FMTTYPE=text/html:A benefit for the American Cancer Society Daytime Preview & Light Buffet from 11am- 4pm. Preview tickets\, $25 per person\, available at the Chamber & First Community Banks. \n\nFine Dining at 6:30 in the evening. By reservation\, $75 per person. (Limited seating so don't delay!)\nRSVP to Sandra\, (956) 423-0915 or sgrawunder@rgv.rr.com\n\n
LOCATION:Across from the Harlingen Arts & Heritage Museum.
UID:e.1828.3111
SEQUENCE:3
DTSTAMP:20260421T002847Z
URL:https://business.harlingen.com/events/details/dining-by-design-11-03-2011-3111
END:VEVENT

END:VCALENDAR
