BEGIN:VCALENDAR
VERSION:2.0
PRODID:-//ChamberMaster//Event Calendar 2.0//EN
METHOD:PUBLISH
X-PUBLISHED-TTL:P3D
REFRESH-INTERVAL:P3D
CALSCALE:GREGORIAN
BEGIN:VEVENT
DTSTART;VALUE=DATE:20101104
DTEND;VALUE=DATE:20101105
TRANSP:TRANSPARENT
X-MICROSOFT-CDO-ALLDAYEVENT:TRUE
SUMMARY:Dining by Design
DESCRIPTION:You are cordially invited to attend Dining by Design\, an event benefitting the American Cancer Society on Thursday\, Nov. 4th. Tablescapes may be viewed between 11:00 am to 4:00 pm. Dinner will be from 7:00 to 11:00 pm. The event will take place at the TSTC Cultural Art Center on Loop 499 across from the Harlingen Arts & Heritage Museum.  For ticket prices or more information\, please call (956) 357-8881.
X-ALT-DESC;FMTTYPE=text/html:You are cordially invited to attend Dining by Design\, an event benefitting the American Cancer Society on Thursday\, Nov. 4th. Tablescapes may be viewed between 11:00 am to 4:00 pm. Dinner will be from 7:00 to 11:00 pm. The event will take place at the TSTC Cultural Art Center on Loop 499 across from the Harlingen Arts & Heritage Museum.  For ticket prices or more information\, please call (956) 357-8881. \n
LOCATION:
UID:e.1828.2717
SEQUENCE:3
DTSTAMP:20260421T185110Z
URL:https://business.harlingen.com/events/details/dining-by-design-11-04-2010-2717
END:VEVENT

END:VCALENDAR
