BEGIN:VCALENDAR
VERSION:2.0
PRODID:-//ChamberMaster//Event Calendar 2.0//EN
METHOD:PUBLISH
X-PUBLISHED-TTL:P3D
REFRESH-INTERVAL:P3D
CALSCALE:GREGORIAN
BEGIN:VEVENT
DTSTART:20110529T000000Z
DTEND:20110529T040000Z
X-MICROSOFT-CDO-ALLDAYEVENT:FALSE
SUMMARY:Dinner-Dance-and Classic Car Show & Contest
DESCRIPTION:Dinner and Dance- $11.95\nChicken\, Beef\, Fajitas\, Rice and Beans\nDinner served or (To Go)- Between 6:00 and 7:00 PM\n\nMusic by Double Decker and Featuring Rob "Elvis" Carter \nAll proceeds will benefit the Veterans' Memorial at Pendleton Park\nBefore the dinner/dance\, a Classic car show and contest will take place on Jackson Street.Veterans are encouraged to bring their own cars and for those Veterans who do not have a car\, have a friend adopt a veteran for the car show. Entry fee for the car show will be a donation to the Veterans Memorial at Pendleton Park.  Everyone is welcome.  Please come and support our cause.
X-ALT-DESC;FMTTYPE=text/html:Dinner and Dance- $11.95\nChicken\, Beef\, Fajitas\, Rice and Beans\nDinner served or (To Go)- Between 6:00 and 7:00 PM\n\nMusic by Double Decker and Featuring Rob "Elvis" Carter \nAll proceeds will benefit the Veterans' Memorial at Pendleton Park\nBefore the dinner/dance\, a Classic car show and contest will take place on Jackson Street.Veterans are encouraged to bring their own cars and for those Veterans who do not have a car\, have a friend adopt a veteran for the car show. Entry fee for the car show will be a donation to the Veterans Memorial at Pendleton Park.  Everyone is welcome.  Please come and support our cause.\n\n\n\n\n\n\n\n
LOCATION:Harlingen Downtown Jackson
UID:e.1828.3060
SEQUENCE:3
DTSTAMP:20260421T094243Z
URL:https://business.harlingen.com/events/details/dinner-dance-and-classic-car-show-contest-05-28-2011-3060
END:VEVENT

END:VCALENDAR
