BEGIN:VCALENDAR
VERSION:2.0
PRODID:-//ChamberMaster//Event Calendar 2.0//EN
METHOD:PUBLISH
X-PUBLISHED-TTL:P3D
REFRESH-INTERVAL:P3D
CALSCALE:GREGORIAN
BEGIN:VEVENT
DTSTART:20100119T010000Z
DTEND:20100119T010000Z
X-MICROSOFT-CDO-ALLDAYEVENT:FALSE
SUMMARY:Dinner Shows
DESCRIPTION:Please list these separately by month on your events calendars as DINNER SHOWS. Thanks so much\, Anne Thanks for posting the Jan. 4 one!!\nJan 18th John Tweed\, Music from Broadway to Country dinner and show starting at $12 \nJan 25th The Link family Bluegrass\, gospel\, multible instruments dinner and show starting at $12\nFeb 1 Allen Edwards\, variety show from Barnson\, MO. dinner and show starting at $12\nFeb 8 Lindsey Family\, Bluegrass with multible instruments dinner and show starting at $12\nFeb. 15 Redhead Express\, Variety of upbeat music\, large band- Bluegrass dinner and show starting at $12 \non each please say:\nCall 956 399-5800 for tickets and info.
X-ALT-DESC;FMTTYPE=text/html:Please list these separately by month on your events calendars as DINNER SHOWS. Thanks so much\, Anne Thanks for posting the Jan. 4 one!!\nJan 18th John Tweed\, Music from Broadway to Country dinner and show starting at $12 \nJan 25th The Link family Bluegrass\, gospel\, multible instruments dinner and show starting at $12\nFeb 1 Allen Edwards\, variety show from Barnson\, MO. dinner and show starting at $12\nFeb 8 Lindsey Family\, Bluegrass with multible instruments dinner and show starting at $12\nFeb. 15 Redhead Express\, Variety of upbeat music\, large band- Bluegrass dinner and show starting at $12 \non each please say:\nCall 956 399-5800 for tickets and info.\n
LOCATION:Fun N Sun RV Resort off 509/ Paso Real South
UID:e.1828.2275
SEQUENCE:3
DTSTAMP:20260422T111521Z
URL:https://business.harlingen.com/events/details/dinner-shows-01-18-2010-2275
END:VEVENT

END:VCALENDAR
