BEGIN:VCALENDAR
VERSION:2.0
PRODID:-//ChamberMaster//Event Calendar 2.0//EN
METHOD:PUBLISH
X-PUBLISHED-TTL:P3D
REFRESH-INTERVAL:P3D
CALSCALE:GREGORIAN
BEGIN:VEVENT
DTSTART:20100105T010000Z
DTEND:20100105T010000Z
X-MICROSOFT-CDO-ALLDAYEVENT:FALSE
SUMMARY:Dinner Shows 2010
DESCRIPTION:Dinner Shows Top Name performers and Dinner in the Dance Capital of the Valley- Fun N Sun RV RESORT San Benito Tx. off 509. Tickets for dinner and show start at just $12
X-ALT-DESC;FMTTYPE=text/html:Dinner Shows Top Name performers and Dinner in the Dance Capital of the Valley- Fun N Sun RV RESORT San Benito Tx. off 509. Tickets for dinner and show start at just $12
LOCATION:Fun N Sun RV Resort San Benito
UID:e.1828.2182
SEQUENCE:3
DTSTAMP:20260422T111521Z
URL:https://business.harlingen.com/events/details/dinner-shows-2010-01-04-2010-2182
END:VEVENT

END:VCALENDAR
