BEGIN:VCALENDAR
VERSION:2.0
PRODID:-//ChamberMaster//Event Calendar 2.0//EN
METHOD:PUBLISH
X-PUBLISHED-TTL:P3D
REFRESH-INTERVAL:P3D
CALSCALE:GREGORIAN
BEGIN:VEVENT
DTSTART:20100209T010000Z
DTEND:20100209T010000Z
X-MICROSOFT-CDO-ALLDAYEVENT:FALSE
SUMMARY:Dinner Shows 2010 Monday Feb 8
DESCRIPTION:Feb 8th\, Dinner and Show\, The Lindsey Family\, Branson Entertainment at FunNSun RV Resort in San Benito Tickets starting at $12 for show and dinner
X-ALT-DESC;FMTTYPE=text/html:Feb 8th\, Dinner and Show\, The Lindsey Family\, Branson Entertainment at FunNSun RV Resort in San Benito Tickets starting at $12 for show and dinner
LOCATION:FunNSun RV Resort off 509 south Paso Real Exit\, San Benito
UID:e.1828.2225
SEQUENCE:3
DTSTAMP:20260422T093707Z
URL:https://business.harlingen.com/events/details/dinner-shows-2010-monday-feb-8-02-08-2010-2225
END:VEVENT

END:VCALENDAR
