BEGIN:VCALENDAR
VERSION:2.0
PRODID:-//ChamberMaster//Event Calendar 2.0//EN
METHOD:PUBLISH
X-PUBLISHED-TTL:P3D
REFRESH-INTERVAL:P3D
CALSCALE:GREGORIAN
BEGIN:VEVENT
DTSTART:20100119T010000Z
DTEND:20100119T010000Z
X-MICROSOFT-CDO-ALLDAYEVENT:FALSE
SUMMARY:Dinner Shows 2010 Monday Jan. 18th
DESCRIPTION:Jan 25th\, Dinner and Show\, The Link Family\, Branson Entertainment at FunNSun RV Resort in San Benito Tickets starting at $12 for show and dinner
X-ALT-DESC;FMTTYPE=text/html:Jan 25th\, Dinner and Show\, The Link Family\, Branson Entertainment at FunNSun RV Resort in San Benito Tickets starting at $12 for show and dinner
LOCATION:FunNSun RV Resort off 509 south Paso Real Exit\, San Benito
UID:e.1828.2227
SEQUENCE:3
DTSTAMP:20260422T111658Z
URL:https://business.harlingen.com/events/details/dinner-shows-2010-monday-jan-18th-01-18-2010-2227
END:VEVENT

END:VCALENDAR
