BEGIN:VCALENDAR
VERSION:2.0
PRODID:-//ChamberMaster//Event Calendar 2.0//EN
METHOD:PUBLISH
X-PUBLISHED-TTL:P3D
REFRESH-INTERVAL:P3D
CALSCALE:GREGORIAN
BEGIN:VEVENT
DTSTART:20121114T223000Z
DTEND:20121114T223000Z
X-MICROSOFT-CDO-ALLDAYEVENT:FALSE
SUMMARY:Direct Auto Insurance Ribbon Cutting
DESCRIPTION:Come and help us celebrate our Ribbon Cutting.
X-ALT-DESC;FMTTYPE=text/html:Come and help us celebrate our Ribbon Cutting.
LOCATION:
UID:e.1828.4138
SEQUENCE:3
DTSTAMP:20260420T084307Z
URL:https://business.harlingen.com/events/details/direct-auto-insurance-ribbon-cutting-11-14-2012-4138
END:VEVENT

END:VCALENDAR
