BEGIN:VCALENDAR
VERSION:2.0
PRODID:-//ChamberMaster//Event Calendar 2.0//EN
METHOD:PUBLISH
X-PUBLISHED-TTL:P3D
REFRESH-INTERVAL:P3D
CALSCALE:GREGORIAN
BEGIN:VEVENT
DTSTART:20100503T130000Z
DTEND:20100503T210000Z
X-MICROSOFT-CDO-ALLDAYEVENT:FALSE
SUMMARY:DISH Network
DESCRIPTION:We will be hosting an onsite Job Fair on May 3\, 2010\, 8am to 4pm to hire Full Time Technical Service Representatives!!!\n\nThe starting pay is $9.00/hr + Merit Pay Increases & Great Bonus Opportunities!!!\n\n***Please bring a copy of your resume if you have one and plan on spending 2-3 hours onsite with us. ***\n\nIf you can arrive by 2pm\, we hope to process your application in full!  \n\nTo speed up the process you can start from home!  \n\nJust visit http://www.mydishcareer.com/harlingen and be prepared to take an assessment! \n\nThank you so much for your time and consideration & we hope to see you here!
X-ALT-DESC;FMTTYPE=text/html:We will be hosting an onsite Job Fair on May 3\, 2010\, 8am to 4pm to hire Full Time Technical Service Representatives!!!\n\nThe starting pay is $9.00/hr + Merit Pay Increases & Great Bonus Opportunities!!!\n\n***Please bring a copy of your resume if you have one and plan on spending 2-3 hours onsite with us. ***\n\nIf you can arrive by 2pm\, we hope to process your application in full!  \n\nTo speed up the process you can start from home!  \n\nJust visit http://www.mydishcareer.com/harlingen and be prepared to take an assessment! \n\nThank you so much for your time and consideration & we hope to see you here!
LOCATION:DISH Network is located at: 2809 E. Grimes Rd. Harlingen\, TX Job Line#: 956-364-7700
UID:e.1828.2494
SEQUENCE:3
DTSTAMP:20260422T044224Z
URL:https://business.harlingen.com/events/details/dish-network-05-03-2010-2494
END:VEVENT

END:VCALENDAR
