BEGIN:VCALENDAR
VERSION:2.0
PRODID:-//ChamberMaster//Event Calendar 2.0//EN
METHOD:PUBLISH
X-PUBLISHED-TTL:P3D
REFRESH-INTERVAL:P3D
CALSCALE:GREGORIAN
BEGIN:VEVENT
DTSTART:20100301T140000Z
DTEND:20100303T220000Z
X-MICROSOFT-CDO-ALLDAYEVENT:FALSE
SUMMARY:DISH Network Hosting On Site Job Fair!!!
DESCRIPTION:DISH Network will be holding an On Site Job Fair on March 1st -3rd from 8am to 4pm at 2809 E Grimes in Harlingen.  We are now hiring Full Time Technical/Customer Service Representatives! The starting pay is $9/hr + Merit Pay Increases & Great Bonus Opportunities\, not to mention tremendous Growth Opportunities!  No resume is required.  Excellent benefits!  To qualify\, you must have a high school diploma or GED\, and be at least 18 years of age.  Must be flexible to work nights\, weekends & holidays.  If unable to attend the Job Fair\, please call 956-364-7925\, or apply online at www.dishnetwork.com/harlingen
X-ALT-DESC;FMTTYPE=text/html:DISH Network will be holding an On Site Job Fair on March 1st -3rd from 8am to 4pm at 2809 E Grimes in Harlingen.  We are now hiring Full Time Technical/Customer Service Representatives! The starting pay is $9/hr + Merit Pay Increases & Great Bonus Opportunities\, not to mention tremendous Growth Opportunities!  No resume is required.  Excellent benefits!  To qualify\, you must have a high school diploma or GED\, and be at least 18 years of age.  Must be flexible to work nights\, weekends & holidays.  If unable to attend the Job Fair\, please call 956-364-7925\, or apply online at www.dishnetwork.com/harlingen\n
LOCATION:
UID:e.1828.2417
SEQUENCE:3
DTSTAMP:20260422T080808Z
URL:https://business.harlingen.com/events/details/dish-network-hosting-on-site-job-fair-03-01-2010-2417
END:VEVENT

END:VCALENDAR
