BEGIN:VCALENDAR
VERSION:2.0
PRODID:-//ChamberMaster//Event Calendar 2.0//EN
METHOD:PUBLISH
X-PUBLISHED-TTL:P3D
REFRESH-INTERVAL:P3D
CALSCALE:GREGORIAN
BEGIN:VEVENT
DTSTART:20100118T140000Z
DTEND:20100121T220000Z
X-MICROSOFT-CDO-ALLDAYEVENT:FALSE
SUMMARY:Dish Network Job Fair
DESCRIPTION:Dish Network Hiring Full Time Inbound Technical Service Reps!!!!!  We will be having an on–site Job Fair on January 18\, 19\, 20 & 21 – no resume is required.  This is a 40-hour per week position starting at $9/hr with up to 4 raises during your first full year of employment\, plus up to a 40% Bonus on every check!  We are looking for persons with 6 months call center experience or 12 months customer service experience!  For more information\, please contact Mary Gonzalez at 956-364-7923.
X-ALT-DESC;FMTTYPE=text/html:Dish Network Hiring Full Time Inbound Technical Service Reps!!!!!  We will be having an on–site Job Fair on January 18\, 19\, 20 & 21 – no resume is required.  This is a 40-hour per week position starting at $9/hr with up to 4 raises during your first full year of employment\, plus up to a 40% Bonus on every check!  We are looking for persons with 6 months call center experience or 12 months customer service experience!  For more information\, please contact Mary Gonzalez at 956-364-7923.\n
LOCATION:
UID:e.1828.2323
SEQUENCE:3
DTSTAMP:20260422T111716Z
URL:https://business.harlingen.com/events/details/dish-network-job-fair-01-18-2010-2323
END:VEVENT

END:VCALENDAR
