BEGIN:VCALENDAR
VERSION:2.0
PRODID:-//ChamberMaster//Event Calendar 2.0//EN
METHOD:PUBLISH
X-PUBLISHED-TTL:P3D
REFRESH-INTERVAL:P3D
CALSCALE:GREGORIAN
BEGIN:VEVENT
DTSTART;VALUE=DATE:20110414
DTEND;VALUE=DATE:20110415
TRANSP:TRANSPARENT
X-MICROSOFT-CDO-ALLDAYEVENT:TRUE
SUMMARY:Disney Institute's Building a Culture of Healthcare Excellence
DESCRIPTION:Learn the five most powerful Disney philosophies – leadership excellence\, people management\, quality service\, brand loyalty and inspiring creativity. These lessons have been carefully developed by the Disney organization in  its never-ending pursuit of excellence. These universal assets of a successful business are the links in Disney's ''Chain of Excellence\,'' and you'll learn how these key insights have been applied in the healthcare industry.\n\nThere is limited seating available! \n\nRegistration Fee: $399/per person \n\nEarly Registration Fee: $359/per person before March 14\, 2011\n\nGroup Rate: 6 registrations = 1 free!\n\n*Continuing Education Credits * Catered lunch included*\n\n         Register  www.utb.edu/healthcareexcellence\n\nPlease call or email if you have any questions 956-882-5105\, Jennifer.McGehee@utb.edu
X-ALT-DESC;FMTTYPE=text/html:Learn the five most powerful Disney philosophies – leadership excellence\, people management\, quality service\, brand loyalty and inspiring creativity. These lessons have been carefully developed by the Disney organization in  its never-ending pursuit of excellence. These universal assets of a successful business are the links in Disney's ''Chain of Excellence\,'' and you'll learn how these key insights have been applied in the healthcare industry.\n\nThere is limited seating available! \n\nRegistration Fee: $399/per person \n\nEarly Registration Fee: $359/per person before March 14\, 2011\n\nGroup Rate: 6 registrations = 1 free!\n\n*Continuing Education Credits * Catered lunch included*\n\n         Register  www.utb.edu/healthcareexcellence\n\nPlease call or email if you have any questions 956-882-5105\, Jennifer.McGehee@utb.edu\n\n\n\n \n
LOCATION:
UID:e.1828.2896
SEQUENCE:3
DTSTAMP:20260421T113545Z
URL:https://business.harlingen.com/events/details/disney-institute-s-building-a-culture-of-healthcare-excellence-04-14-2011-2896
END:VEVENT

END:VCALENDAR
