BEGIN:VCALENDAR
VERSION:2.0
PRODID:-//ChamberMaster//Event Calendar 2.0//EN
METHOD:PUBLISH
X-PUBLISHED-TTL:P3D
REFRESH-INTERVAL:P3D
CALSCALE:GREGORIAN
BEGIN:VEVENT
DTSTART;VALUE=DATE:20100810
DTEND;VALUE=DATE:20100811
TRANSP:TRANSPARENT
X-MICROSOFT-CDO-ALLDAYEVENT:TRUE
SUMMARY:DISNEY'S APPROACH TO BUSINESS EXCELLENCE DEVELOPMENT PROGRAM
DESCRIPTION:We are excited to announce that "Disney Institute" is bringing its renowned professional development program\, ''Disney's Approach to Business Excellence'' to The University of Texas at Brownsville and Texas Southmost College. This program will give business professionals the opportunity to "Experience The Business Behind the Magic" and implement more than 80 years of proven\, time-tested business principles into their organization -- the same principles that established The Walt Disney Company as a world business leader in quality\, leadership\, management\, loyalty\, and innovation.  Through Disney's Approach to Business Excellence\, attendees will experience and learn how to benchmark the core business principles that drive the success of The Walt Disney Company and discover the powerful connection between inspired leaders\, motivated employees\, and satisfied customers that drives financial results and repeat business.  Go to www.utb.edu/businessexcellence now for more information and to register.  Limited seating available!  Registration Fee: $399/per person.  Early registration Fee: $375/per person before July 27\, 2010.  For more information\, please call 956-882-5105.
X-ALT-DESC;FMTTYPE=text/html:We are excited to announce that "Disney Institute" is bringing its renowned professional development program\, ''Disney's Approach to Business Excellence'' to The University of Texas at Brownsville and Texas Southmost College. This program will give business professionals the opportunity to "Experience The Business Behind the Magic" and implement more than 80 years of proven\, time-tested business principles into their organization -- the same principles that established The Walt Disney Company as a world business leader in quality\, leadership\, management\, loyalty\, and innovation.  Through Disney's Approach to Business Excellence\, attendees will experience and learn how to benchmark the core business principles that drive the success of The Walt Disney Company and discover the powerful connection between inspired leaders\, motivated employees\, and satisfied customers that drives financial results and repeat business.  Go to www.utb.edu/businessexcellence now for more information and to register.  Limited seating available!  Registration Fee: $399/per person.  Early registration Fee: $375/per person before July 27\, 2010.  For more information\, please call 956-882-5105.\n
LOCATION:
UID:e.1828.2599
SEQUENCE:3
DTSTAMP:20260422T001431Z
URL:https://business.harlingen.com/events/details/disney-s-approach-to-business-excellence-development-program-08-10-2010-2599
END:VEVENT

END:VCALENDAR
