BEGIN:VCALENDAR
VERSION:2.0
PRODID:-//ChamberMaster//Event Calendar 2.0//EN
METHOD:PUBLISH
X-PUBLISHED-TTL:P3D
REFRESH-INTERVAL:P3D
CALSCALE:GREGORIAN
BEGIN:VEVENT
DTSTART:20111105T223000Z
DTEND:20111105T223000Z
X-MICROSOFT-CDO-ALLDAYEVENT:FALSE
SUMMARY:Distinguished Alumnus Awards
DESCRIPTION:The late Jaime Jorge Zapata\, Oscar Casares and Gonzalo Salazar will be recognized at the Science\, Engineering and Technology Building Lecture Hall at 5:30 p.m. Saturday\, Nov. 5.The public is invited to attend.
X-ALT-DESC;FMTTYPE=text/html:The late Jaime Jorge Zapata\, Oscar Casares and Gonzalo Salazar will be recognized at the Science\, Engineering and Technology Building Lecture Hall at 5:30 p.m. Saturday\, Nov. 5.The public is invited to attend. \n\n
LOCATION:UTB\, SETB Lecture Hall
UID:e.1828.3256
SEQUENCE:3
DTSTAMP:20260421T003836Z
URL:https://business.harlingen.com/events/details/distinguished-alumnus-awards-11-05-2011-3256
END:VEVENT

END:VCALENDAR
