BEGIN:VCALENDAR
VERSION:2.0
PRODID:-//ChamberMaster//Event Calendar 2.0//EN
METHOD:PUBLISH
X-PUBLISHED-TTL:P3D
REFRESH-INTERVAL:P3D
CALSCALE:GREGORIAN
BEGIN:VEVENT
DTSTART:20111014T000000Z
DTEND:20111014T020000Z
X-MICROSOFT-CDO-ALLDAYEVENT:FALSE
SUMMARY:Distinguished Lecture Series with David M. Oshinsky
DESCRIPTION:David M. Oshinsky\, Author of Polio: An American Story\n\nThis event is a fundraiser held to raise money for the Scorpion Fund\, which helps to provide funding for students\, faculty and staff where state funding is either inadequate or nonexistent. In the past The Scorpion Fund has paid for scholarships\, professional membership fees\, student and staff development travel\, music equipment and more.\n\nFor ticket information\, call 882-4327.
X-ALT-DESC;FMTTYPE=text/html:David M. Oshinsky\, Author of Polio: An American Story\n\nThis event is a fundraiser held to raise money for the Scorpion Fund\, which helps to provide funding for students\, faculty and staff where state funding is either inadequate or nonexistent. In the past The Scorpion Fund has paid for scholarships\, professional membership fees\, student and staff development travel\, music equipment and more.\n\nFor ticket information\, call 882-4327.
LOCATION:UTB/TSC main campus\, SETB-Lecture Hall
UID:e.1828.3208
SEQUENCE:3
DTSTAMP:20260421T021107Z
URL:https://business.harlingen.com/events/details/distinguished-lecture-series-with-david-m-oshinsky-10-13-2011-3208
END:VEVENT

END:VCALENDAR
