BEGIN:VCALENDAR
VERSION:2.0
PRODID:-//ChamberMaster//Event Calendar 2.0//EN
METHOD:PUBLISH
X-PUBLISHED-TTL:P3D
REFRESH-INTERVAL:P3D
CALSCALE:GREGORIAN
BEGIN:VEVENT
DTSTART:20110526T233000Z
DTEND:20110527T010000Z
X-MICROSOFT-CDO-ALLDAYEVENT:FALSE
SUMMARY:District Gala
DESCRIPTION:Boy Scouts Honor Todd Mann \n(Harlingen TX\, April 11\, 2011) – The Rio Grande Council\, Boy Scouts of America will hold the ''2011 District Gala'' Dinner\, on Thursday\, May 26\, 2011\, at the Harlingen Arts & Heritage Museum at 6:30PM.  Todd Mann\, CEO and President of Harlingen Medical Center will be honored as the seventh recipient of the ''Centennial Leadership Award\,'' which will be presented at this benefit dinner.\n\nThe ''Centennial Leadership Award'' has been designated by the Rio Grande Council of the Boy Scouts of America as an award to recognize a civic\, community\, or business leader who demonstrates patriotism\, leadership\, and service at a local\, state\, or national level.  The candidate must also provide service and support to the character development of youth within Cameron County.  Past honorees include Senator Eddie Lucio\, Neal O. Simmons\, Eddie Campirano\, Monsignor Gustavo Barrera\, Chris Boswell\, Dr. Uvaldo Cantu\, Col. Glenn Hill\, and Judge Bennie Ochoa. \n\nThe Honoree has been a long supporter of numerous youth programs and education in Cameron Country.  \n\nFunds raised for this dinner will support the Boy Scouts of America in the Rio Grande Valley. For more information on becoming a sponsor of this event\, please contact Ernesto Castro at 956-423-0250 at ernesto.castro@scouting.org.\n\n                    \n###
X-ALT-DESC;FMTTYPE=text/html:Boy Scouts Honor Todd Mann \n(Harlingen TX\, April 11\, 2011) – The Rio Grande Council\, Boy Scouts of America will hold the ''2011 District Gala'' Dinner\, on Thursday\, May 26\, 2011\, at the Harlingen Arts & Heritage Museum at 6:30PM.  Todd Mann\, CEO and President of Harlingen Medical Center will be honored as the seventh recipient of the ''Centennial Leadership Award\,'' which will be presented at this benefit dinner.\n\nThe ''Centennial Leadership Award'' has been designated by the Rio Grande Council of the Boy Scouts of America as an award to recognize a civic\, community\, or business leader who demonstrates patriotism\, leadership\, and service at a local\, state\, or national level.  The candidate must also provide service and support to the character development of youth within Cameron County.  Past honorees include Senator Eddie Lucio\, Neal O. Simmons\, Eddie Campirano\, Monsignor Gustavo Barrera\, Chris Boswell\, Dr. Uvaldo Cantu\, Col. Glenn Hill\, and Judge Bennie Ochoa. \n\nThe Honoree has been a long supporter of numerous youth programs and education in Cameron Country.  \n\nFunds raised for this dinner will support the Boy Scouts of America in the Rio Grande Valley. For more information on becoming a sponsor of this event\, please contact Ernesto Castro at 956-423-0250 at ernesto.castro@scouting.org.\n\n                    \n###\n
LOCATION:“2011 District Gala” Dinner\, on Thursday\, May 26\, 2011\, at the Harlingen Arts & Heritage Museum
UID:e.1828.3206
SEQUENCE:3
DTSTAMP:20260421T093859Z
URL:https://business.harlingen.com/events/details/district-gala-05-26-2011-3206
END:VEVENT

END:VCALENDAR
