BEGIN:VCALENDAR
VERSION:2.0
PRODID:-//ChamberMaster//Event Calendar 2.0//EN
METHOD:PUBLISH
X-PUBLISHED-TTL:P3D
REFRESH-INTERVAL:P3D
CALSCALE:GREGORIAN
BEGIN:VEVENT
DTSTART:20110623T223000Z
DTEND:20110623T223000Z
X-MICROSOFT-CDO-ALLDAYEVENT:FALSE
SUMMARY:Do or Dye Hair Salon Ribbon Cutting/Grand Opening
DESCRIPTION:Come celebrate the grand opening of Do or Dye Hair Salon with a ribbon cutting ceremony and a chance win door prizes & discount cards. Finger foods and beverages will be served.
X-ALT-DESC;FMTTYPE=text/html:Come celebrate the grand opening of Do or Dye Hair Salon with a ribbon cutting ceremony and a chance win door prizes & discount cards. Finger foods and beverages will be served.  \n 
LOCATION:
UID:e.1828.3080
SEQUENCE:3
DTSTAMP:20260421T085004Z
URL:https://business.harlingen.com/events/details/do-or-dye-hair-salon-ribbon-cutting-grand-opening-06-23-2011-3080
END:VEVENT

END:VCALENDAR
