BEGIN:VCALENDAR
VERSION:2.0
PRODID:-//ChamberMaster//Event Calendar 2.0//EN
METHOD:PUBLISH
X-PUBLISHED-TTL:P3D
REFRESH-INTERVAL:P3D
CALSCALE:GREGORIAN
BEGIN:VEVENT
DTSTART:20110311T000000Z
DTEND:20110311T020000Z
X-MICROSOFT-CDO-ALLDAYEVENT:FALSE
SUMMARY:DOC Talks-Harlingen Medical Center
DESCRIPTION:Speaker: Dr. Wayne Green M.D.\, M.S.P.H.\n"Everything you need to know about Colorectal Cancer"\nSeating is limited and admission is free. Refreshments & hor d'oeuvres will be served. RSVP to Ana Villarreal at 956-365-1888.
X-ALT-DESC;FMTTYPE=text/html:Speaker: Dr. Wayne Green M.D.\, M.S.P.H.\n"Everything you need to know about Colorectal Cancer"\nSeating is limited and admission is free. Refreshments & hor d'oeuvres will be served. RSVP to Ana Villarreal at 956-365-1888.  \n
LOCATION:MOB Conference Room
UID:e.1828.2988
SEQUENCE:3
DTSTAMP:20260421T135645Z
URL:https://business.harlingen.com/events/details/doc-talks-harlingen-medical-center-03-10-2011-2988
END:VEVENT

END:VCALENDAR
