BEGIN:VCALENDAR
VERSION:2.0
PRODID:-//ChamberMaster//Event Calendar 2.0//EN
METHOD:PUBLISH
X-PUBLISHED-TTL:P3D
REFRESH-INTERVAL:P3D
CALSCALE:GREGORIAN
BEGIN:VEVENT
DTSTART;VALUE=DATE:20091008
DTEND;VALUE=DATE:20091121
TRANSP:TRANSPARENT
X-MICROSOFT-CDO-ALLDAYEVENT:TRUE
SUMMARY:Dos Aguilas Exhibit
DESCRIPTION:Dos Aguilas: A Natural History of the U.S. Borderlands showcases spectacular photos of wildlife and landscapes along the 2000 Mile U.S./Mexican border.  For museum hours\, please call 956-216-4901.
X-ALT-DESC;FMTTYPE=text/html:Dos Aguilas: A Natural History of the U.S. Borderlands showcases spectacular photos of wildlife and landscapes along the 2000 Mile U.S./Mexican border.  For museum hours\, please call 956-216-4901.\n\n	
LOCATION:Harlingen Arts & Heritage Museum
UID:e.1828.1591
SEQUENCE:3
DTSTAMP:20260422T111628Z
URL:https://business.harlingen.com/events/details/dos-aguilas-exhibit-10-08-2009-1591
END:VEVENT

END:VCALENDAR
