BEGIN:VCALENDAR
VERSION:2.0
PRODID:-//ChamberMaster//Event Calendar 2.0//EN
METHOD:PUBLISH
X-PUBLISHED-TTL:P3D
REFRESH-INTERVAL:P3D
CALSCALE:GREGORIAN
BEGIN:VEVENT
DTSTART:20090901T200000Z
DTEND:20090901T200000Z
X-MICROSOFT-CDO-ALLDAYEVENT:FALSE
SUMMARY:Down by the Border Special Reception for Texas State Legislators
DESCRIPTION:Down by the Border\, an association helping children with special needs\, and its board members invite you to a reception honoring the Texas State Legislators that authored & coauthored House Bill 67 & Senate Bill 187\, both of which benefit children with special needs.  For more information\, please Call Sergio Zarate at 956-2454800.
X-ALT-DESC;FMTTYPE=text/html:Down by the Border\, an association helping children with special needs\, and its board members invite you to a reception honoring the Texas State Legislators that authored & coauthored House Bill 67 & Senate Bill 187\, both of which benefit children with special needs.  For more information\, please Call Sergio Zarate at 956-2454800.
LOCATION:
UID:e.1828.2052
SEQUENCE:3
DTSTAMP:20260422T093723Z
URL:https://business.harlingen.com/events/details/down-by-the-border-special-reception-for-texas-state-legislators-09-01-2009-2052
END:VEVENT

END:VCALENDAR
