BEGIN:VCALENDAR
VERSION:2.0
PRODID:-//ChamberMaster//Event Calendar 2.0//EN
METHOD:PUBLISH
X-PUBLISHED-TTL:P3D
REFRESH-INTERVAL:P3D
CALSCALE:GREGORIAN
BEGIN:VEVENT
DTSTART:20110622T150000Z
DTEND:20110622T150000Z
X-MICROSOFT-CDO-ALLDAYEVENT:FALSE
SUMMARY:Downtown Harlingen's New Location Ribbon Cutting/Open House
DESCRIPTION:Join us in celebrating the new location of The City's "Downtown Harlingen" at the corner of Jackson and Commerce. A ribbon cutting ceremony will be held as well as an open house open to the community.
X-ALT-DESC;FMTTYPE=text/html:Join us in celebrating the new location of The City's "Downtown Harlingen" at the corner of Jackson and Commerce. A ribbon cutting ceremony will be held as well as an open house open to the community.   \n
LOCATION:
UID:e.1828.3079
SEQUENCE:3
DTSTAMP:20260421T081935Z
URL:https://business.harlingen.com/events/details/downtown-harlingen-s-new-location-ribbon-cutting-open-house-06-22-2011-3079
END:VEVENT

END:VCALENDAR
