BEGIN:VCALENDAR
VERSION:2.0
PRODID:-//ChamberMaster//Event Calendar 2.0//EN
METHOD:PUBLISH
X-PUBLISHED-TTL:P3D
REFRESH-INTERVAL:P3D
CALSCALE:GREGORIAN
BEGIN:VEVENT
DTSTART:20100424T220000Z
DTEND:20100425T030000Z
X-MICROSOFT-CDO-ALLDAYEVENT:FALSE
SUMMARY:Downtown Street Dance
DESCRIPTION:Celebrate Harlingen's 100th Birthday with tropical music by the Bongo Dogs and good old fashioned rock 'n roll by the Cruisers.  Free & open to the public.  Bring your lawn chairs.  Sponsored by Jackson Street Market Days\, Inc.  For more information\, please call June Ramirez at 956-423-4041.
X-ALT-DESC;FMTTYPE=text/html:Celebrate Harlingen's 100th Birthday with tropical music by the Bongo Dogs and good old fashioned rock 'n roll by the Cruisers.  Free & open to the public.  Bring your lawn chairs.  Sponsored by Jackson Street Market Days\, Inc.  For more information\, please call June Ramirez at 956-423-4041.
LOCATION:
UID:e.1828.2496
SEQUENCE:3
DTSTAMP:20260422T062331Z
URL:https://business.harlingen.com/events/details/downtown-street-dance-04-24-2010-2496
END:VEVENT

END:VCALENDAR
