BEGIN:VCALENDAR
VERSION:2.0
PRODID:-//ChamberMaster//Event Calendar 2.0//EN
METHOD:PUBLISH
X-PUBLISHED-TTL:P3D
REFRESH-INTERVAL:P3D
CALSCALE:GREGORIAN
BEGIN:VEVENT
DTSTART:20120902T013000Z
DTEND:20120902T013000Z
X-MICROSOFT-CDO-ALLDAYEVENT:FALSE
SUMMARY:Dr. Seuss' "The Lorax"
DESCRIPTION:The City of Harlingen\,Time Warner Cable and Pena Eye Institute presents Movie in the Park. \n\n7:pm Kids Activities\n10:15pm Fireworks\n\nFree Admission\, Lawnchairs & Picnic Baskets Welcome!
X-ALT-DESC;FMTTYPE=text/html:The City of Harlingen\,Time Warner Cable and Pena Eye Institute presents Movie in the Park. \n\n7:pm Kids Activities\n10:15pm Fireworks\n\nFree Admission\, Lawnchairs & Picnic Baskets Welcome!
LOCATION:
UID:e.1828.3959
SEQUENCE:3
DTSTAMP:20260420T101124Z
URL:https://business.harlingen.com/events/details/dr-seuss-the-lorax-09-01-2012-3959
END:VEVENT

END:VCALENDAR
