BEGIN:VCALENDAR
VERSION:2.0
PRODID:-//ChamberMaster//Event Calendar 2.0//EN
METHOD:PUBLISH
X-PUBLISHED-TTL:P3D
REFRESH-INTERVAL:P3D
CALSCALE:GREGORIAN
BEGIN:VEVENT
DTSTART:20100527T230000Z
DTEND:20100528T020000Z
X-MICROSOFT-CDO-ALLDAYEVENT:FALSE
SUMMARY:Dres-Arche Gemstone Design Show & Sale
DESCRIPTION:Dres-Arche Gemstone Design\, LLC of Florida (Artists/Owners\, Deborah Archer & Mikki Drees) is hosting a special jewelry show & sales event for Valley residents.  Dres-Arche offers upscale artisan jewelry in high quality gemstones\, pearls\, and fossils--beautifully crafted\, original designs for all budgets.  Wine and cheese will be served\, and guests may register for jewelry door prizes.
X-ALT-DESC;FMTTYPE=text/html:Dres-Arche Gemstone Design\, LLC of Florida (Artists/Owners\, Deborah Archer & Mikki Drees) is hosting a special jewelry show & sales event for Valley residents.  Dres-Arche offers upscale artisan jewelry in high quality gemstones\, pearls\, and fossils--beautifully crafted\, original designs for all budgets.  Wine and cheese will be served\, and guests may register for jewelry door prizes.
LOCATION:Archer Business Systems (lobby) 717 N. 77 Sunshine Strip Harlingen\, TX 78550
UID:e.1828.2526
SEQUENCE:3
DTSTAMP:20260422T050117Z
URL:https://business.harlingen.com/events/details/dres-arche-gemstone-design-show-sale-05-27-2010-2526
END:VEVENT

END:VCALENDAR
