BEGIN:VCALENDAR
VERSION:2.0
PRODID:-//ChamberMaster//Event Calendar 2.0//EN
METHOD:PUBLISH
X-PUBLISHED-TTL:P3D
REFRESH-INTERVAL:P3D
CALSCALE:GREGORIAN
BEGIN:VEVENT
DTSTART:20120420T233000Z
DTEND:20120420T233000Z
X-MICROSOFT-CDO-ALLDAYEVENT:FALSE
SUMMARY:Driscoll Children's Gala
DESCRIPTION:RGV Livestock Show Event Center\, Mercedes \nOpen bar\, silent auction\, BBQ dinner\, live auction and dance featuring Scott Randolph & The White Lightning Band.\nPresented by Whataburger with 100% of the proceeds benefiting Driscoll Children's Specialty Clinics of the RGV. \nFor ticket and table sponsorship information\, call Reagan Florence at (956) 688-1239.
X-ALT-DESC;FMTTYPE=text/html:RGV Livestock Show Event Center\, Mercedes \nOpen bar\, silent auction\, BBQ dinner\, live auction and dance featuring Scott Randolph & The White Lightning Band.\nPresented by Whataburger with 100% of the proceeds benefiting Driscoll Children's Specialty Clinics of the RGV. \nFor ticket and table sponsorship information\, call Reagan Florence at (956) 688-1239. \n     \n
LOCATION:
UID:e.1828.3592
SEQUENCE:3
DTSTAMP:20260420T181819Z
URL:https://business.harlingen.com/events/details/driscoll-children-s-gala-04-20-2012-3592
END:VEVENT

END:VCALENDAR
