BEGIN:VCALENDAR
VERSION:2.0
PRODID:-//ChamberMaster//Event Calendar 2.0//EN
METHOD:PUBLISH
X-PUBLISHED-TTL:P3D
REFRESH-INTERVAL:P3D
CALSCALE:GREGORIAN
BEGIN:VEVENT
DTSTART:20100528T150000Z
DTEND:20100528T150000Z
X-MICROSOFT-CDO-ALLDAYEVENT:FALSE
SUMMARY:Eagle Scout Court of Honor
DESCRIPTION:Friday\, May 28th\, 10:00 a.m. in MMA's Phil Yeckel Auditorium - Eagle Scout Court of Honor: Two Troop 22 Life Scouts advance to the highest attainable rank in Scouting.  Each of these Life Scouts completed a leadership project benefiting the community of Harlingen before presenting their Scout records to the Rio Grande Council in request for Eagle Scout candidacy.  For more information please call 956-421-9235.
X-ALT-DESC;FMTTYPE=text/html:Friday\, May 28th\, 10:00 a.m. in MMA's Phil Yeckel Auditorium - Eagle Scout Court of Honor: Two Troop 22 Life Scouts advance to the highest attainable rank in Scouting.  Each of these Life Scouts completed a leadership project benefiting the community of Harlingen before presenting their Scout records to the Rio Grande Council in request for Eagle Scout candidacy.  For more information please call 956-421-9235.
LOCATION:Phil Yeckel Memorial Auditorium
UID:e.1828.2519
SEQUENCE:3
DTSTAMP:20260422T061945Z
URL:https://business.harlingen.com/events/details/eagle-scout-court-of-honor-05-28-2010-2519
END:VEVENT

END:VCALENDAR
