BEGIN:VCALENDAR
VERSION:2.0
PRODID:-//ChamberMaster//Event Calendar 2.0//EN
METHOD:PUBLISH
X-PUBLISHED-TTL:P3D
REFRESH-INTERVAL:P3D
CALSCALE:GREGORIAN
BEGIN:VEVENT
DTSTART:20100424T130000Z
DTEND:20100424T220000Z
X-MICROSOFT-CDO-ALLDAYEVENT:FALSE
SUMMARY:"EarthKind Landscaping and Gardening Seminar"
DESCRIPTION:Cameron County Master Gardeners are sponsoring an "EarthKind Landscaping and Gardening Seminar" on Saturday\, April 24 from 8:00am to 5:00pm.   Speakers will be on hand to present up-to the-minute gardening tips.  The objective of Earth-Kind is to combine the best of organic and traditional gardening and landscaping principles to create a horticultural system based on real world effectiveness and environmental responsibility. Earth-Kind landscaping uses research proven techniques to provide maximum gardening and landscaping enjoyment while preserving and protecting our environment.  TOPICS: Improving Existing Soils\, Turf Management through Earth-Kind Management\, South Texas Plants for Earth-Kind Gardening\, Water Conservation\, Earth-Kind Roses and Disease and Insect Management for the Earth-Kind Landscape.\nQuestion   \nDr. William Johnson\, Horticulture Agent\, Galveston County\; and Jennifer Wilson\, Master Gardener\, Cameron County.  FEE: $65. (includes Earth-Kind notebook and lunch).  Registration form can be downloaded at http://grovesite.com/page.asp?o=mg&s=ccmg.
X-ALT-DESC;FMTTYPE=text/html:Cameron County Master Gardeners are sponsoring an "EarthKind Landscaping and Gardening Seminar" on Saturday\, April 24 from 8:00am to 5:00pm.   Speakers will be on hand to present up-to the-minute gardening tips.  The objective of Earth-Kind is to combine the best of organic and traditional gardening and landscaping principles to create a horticultural system based on real world effectiveness and environmental responsibility. Earth-Kind landscaping uses research proven techniques to provide maximum gardening and landscaping enjoyment while preserving and protecting our environment.  TOPICS: Improving Existing Soils\, Turf Management through Earth-Kind Management\, South Texas Plants for Earth-Kind Gardening\, Water Conservation\, Earth-Kind Roses and Disease and Insect Management for the Earth-Kind Landscape.\nQuestion & Answer Panel will follow.  PRESENTERS: Dr. Steve Chaney\, Horticulture Agent\, Tarrant County\; \nDr. William Johnson\, Horticulture Agent\, Galveston County\; and Jennifer Wilson\, Master Gardener\, Cameron County.  FEE: $65. (includes Earth-Kind notebook and lunch).  Registration form can be downloaded at http://grovesite.com/page.asp?o=mg&s=ccmg. \n
LOCATION:
UID:e.1828.2475
SEQUENCE:3
DTSTAMP:20260422T081011Z
URL:https://business.harlingen.com/events/details/earthkind-landscaping-and-gardening-seminar-04-24-2010-2475
END:VEVENT

END:VCALENDAR
