BEGIN:VCALENDAR
VERSION:2.0
PRODID:-//ChamberMaster//Event Calendar 2.0//EN
METHOD:PUBLISH
X-PUBLISHED-TTL:P3D
REFRESH-INTERVAL:P3D
CALSCALE:GREGORIAN
BEGIN:VEVENT
DTSTART:20100403T140000Z
DTEND:20100403T160000Z
X-MICROSOFT-CDO-ALLDAYEVENT:FALSE
SUMMARY:EASTER EGG HUNT
DESCRIPTION:The Harlingen Jaycees and Harlingen Parks and Recreation Department are hosting the 2010 Easter Egg Hunt on April 3\, 2010 at the Harlingen Sports Complex Adult Ball Park located at 3139 Wilson Road.  Participants will hunt for 10\,000 Eggs!  There will be Prizes\, Games and much more!  Free Admission!  For more information please call Harlingen Jaycees President\, Gloria Mares\, at (956) 200-3188 or the Harlingen Parks and Recreation Department at (956) 216-5950.
X-ALT-DESC;FMTTYPE=text/html:The Harlingen Jaycees and Harlingen Parks and Recreation Department are hosting the 2010 Easter Egg Hunt on April 3\, 2010 at the Harlingen Sports Complex Adult Ball Park located at 3139 Wilson Road.  Participants will hunt for 10\,000 Eggs!  There will be Prizes\, Games and much more!  Free Admission!  For more information please call Harlingen Jaycees President\, Gloria Mares\, at (956) 200-3188 or the Harlingen Parks and Recreation Department at (956) 216-5950.\n
LOCATION:
UID:e.1828.2415
SEQUENCE:3
DTSTAMP:20260422T061255Z
URL:https://business.harlingen.com/events/details/easter-egg-hunt-04-03-2010-2415
END:VEVENT

END:VCALENDAR
