BEGIN:VCALENDAR
VERSION:2.0
PRODID:-//ChamberMaster//Event Calendar 2.0//EN
METHOD:PUBLISH
X-PUBLISHED-TTL:P3D
REFRESH-INTERVAL:P3D
CALSCALE:GREGORIAN
BEGIN:VEVENT
DTSTART:20091027T230000Z
DTEND:20091027T230000Z
X-MICROSOFT-CDO-ALLDAYEVENT:FALSE
SUMMARY:Easter Seals Annual Dinner
DESCRIPTION:The  2009 Easter Seals Annual Dinner will honor D.V. & Carmen Guerra\, Humanitarian Honorees of the Year\nand key volunteers.  Contact Marilyn Fox at (956) 631-9171 or e-mail  mfox@easterseals-rgv.org for more information or to make a reservation.  Sponsorship levels include:  Independence Level (Table/10 Reservations) $1\,200\, Ability Level (1 Reservation) $100\, Annual Dinner Sponsor $3\,000 and Premier Annual Dinner Sponsor $5\,000.
X-ALT-DESC;FMTTYPE=text/html:The  2009 Easter Seals Annual Dinner will honor D.V. & Carmen Guerra\, Humanitarian Honorees of the Year\nand key volunteers.  Contact Marilyn Fox at (956) 631-9171 or e-mail  mfox@easterseals-rgv.org for more information or to make a reservation.  Sponsorship levels include:  Independence Level (Table/10 Reservations) $1\,200\, Ability Level (1 Reservation) $100\, Annual Dinner Sponsor $3\,000 and Premier Annual Dinner Sponsor $5\,000.
LOCATION:
UID:e.1828.2116
SEQUENCE:3
DTSTAMP:20260422T111547Z
URL:https://business.harlingen.com/events/details/easter-seals-annual-dinner-10-27-2009-2116
END:VEVENT

END:VCALENDAR
