BEGIN:VCALENDAR
VERSION:2.0
PRODID:-//ChamberMaster//Event Calendar 2.0//EN
METHOD:PUBLISH
X-PUBLISHED-TTL:P3D
REFRESH-INTERVAL:P3D
CALSCALE:GREGORIAN
BEGIN:VEVENT
DTSTART:20111108T153000Z
DTEND:20111108T213000Z
X-MICROSOFT-CDO-ALLDAYEVENT:FALSE
SUMMARY:Economic Resource & Career Fair 2011
DESCRIPTION:Opening Doors to the Future\nState Farm Arena\nThe Resource and Career Fair is geared towards helping the local unemployed\, and underemployed\, Job Seeker to connect with Employers who are hiring in the Rio Grande Valley and beyond. Additional benefits include employer networking and valuable resources offered by community organizations\, as well as local\, state\, and federal agencies. To reserve your complimentary booth\, please register online at \nfsolutions.org today.
X-ALT-DESC;FMTTYPE=text/html:Opening Doors to the Future\nState Farm Arena\nThe Resource and Career Fair is geared towards helping the local unemployed\, and underemployed\, Job Seeker to connect with Employers who are hiring in the Rio Grande Valley and beyond. Additional benefits include employer networking and valuable resources offered by community organizations\, as well as local\, state\, and federal agencies. To reserve your complimentary booth\, please register online at \nfsolutions.org today. \n\n
LOCATION:
UID:e.1828.3217
SEQUENCE:3
DTSTAMP:20260421T021241Z
URL:https://business.harlingen.com/events/details/economic-resource-career-fair-2011-11-08-2011-3217
END:VEVENT

END:VCALENDAR
