BEGIN:VCALENDAR
VERSION:2.0
PRODID:-//ChamberMaster//Event Calendar 2.0//EN
METHOD:PUBLISH
X-PUBLISHED-TTL:P3D
REFRESH-INTERVAL:P3D
CALSCALE:GREGORIAN
BEGIN:VEVENT
DTSTART:20120503T143000Z
DTEND:20120503T190000Z
X-MICROSOFT-CDO-ALLDAYEVENT:FALSE
SUMMARY:Economic Resource & Career Fair 2012
DESCRIPTION:Workforce Solutions Cameron\, in partnership with Workforce Solutions (Lower Rio)\, the City of Harlingen\, Action 4 News and Valley Channel.com\, and in conjunction with U.S. Congressmen Hinojosa\, Farenthold and Cuellar\, are hosting this event.  Sixty employers in various industries are anticipated to participate.  If you are a hiring employer\, you are invited to join as an exhibitor.  Employers and Job Seekers can register at www.wfscameron.org.
X-ALT-DESC;FMTTYPE=text/html:Workforce Solutions Cameron\, in partnership with Workforce Solutions (Lower Rio)\, the City of Harlingen\, Action 4 News and Valley Channel.com\, and in conjunction with U.S. Congressmen Hinojosa\, Farenthold and Cuellar\, are hosting this event.  Sixty employers in various industries are anticipated to participate.  If you are a hiring employer\, you are invited to join as an exhibitor.  Employers and Job Seekers can register at www.wfscameron.org.\n
LOCATION:
UID:e.1828.3622
SEQUENCE:3
DTSTAMP:20260420T150433Z
URL:https://business.harlingen.com/events/details/economic-resource-career-fair-2012-05-03-2012-3622
END:VEVENT

END:VCALENDAR
